BEGIN:VCALENDAR
VERSION:2.0
PRODID:-//Anthroposophisches Zentrum Kassel e.V. - ECPv6.15.20//NONSGML v1.0//EN
CALSCALE:GREGORIAN
METHOD:PUBLISH
X-ORIGINAL-URL:https://www.az-kassel.de
X-WR-CALDESC:Veranstaltungen für Anthroposophisches Zentrum Kassel e.V.
REFRESH-INTERVAL;VALUE=DURATION:PT1H
X-Robots-Tag:noindex
X-PUBLISHED-TTL:PT1H
BEGIN:VTIMEZONE
TZID:Europe/Berlin
BEGIN:DAYLIGHT
TZOFFSETFROM:+0100
TZOFFSETTO:+0200
TZNAME:CEST
DTSTART:20250330T010000
END:DAYLIGHT
BEGIN:STANDARD
TZOFFSETFROM:+0200
TZOFFSETTO:+0100
TZNAME:CET
DTSTART:20251026T010000
END:STANDARD
BEGIN:DAYLIGHT
TZOFFSETFROM:+0100
TZOFFSETTO:+0200
TZNAME:CEST
DTSTART:20260329T010000
END:DAYLIGHT
BEGIN:STANDARD
TZOFFSETFROM:+0200
TZOFFSETTO:+0100
TZNAME:CET
DTSTART:20261025T010000
END:STANDARD
BEGIN:DAYLIGHT
TZOFFSETFROM:+0100
TZOFFSETTO:+0200
TZNAME:CEST
DTSTART:20270328T010000
END:DAYLIGHT
BEGIN:STANDARD
TZOFFSETFROM:+0200
TZOFFSETTO:+0100
TZNAME:CET
DTSTART:20271031T010000
END:STANDARD
END:VTIMEZONE
BEGIN:VEVENT
DTSTART;TZID=Europe/Berlin:20260515T170000
DTEND;TZID=Europe/Berlin:20260517T130000
DTSTAMP:20260420T120127
CREATED:20251219T130849Z
LAST-MODIFIED:20260401T095200Z
UID:10002198-1778864400-1779022800@www.az-kassel.de
SUMMARY:14. Himmelfahrtstagung - Wochenendtagung
DESCRIPTION:14. Him­mel­fahrts­ta­gung zur Zukunft der anthro­po­so­phi­schen Bewe­gung und Gesellschaft\nFreie spi­ri­tu­el­le Krea­ti­vi­tät und neue sozia­le Wege — Unser apo­ka­lyp­ti­sches Geprüftsein \nMit Johan­nes Grei­ner\, Stef­fen Hart­mann\, Anton Kimpf­ler und ein 10–12 köp­fi­ges Tagungsteam \nSeit 14 Jah­ren fin­det die­se abwechs­lungs­rei­che aus vie­len Fach­rich­tun­gen inspi­rier­te Tagung mit brei­tem Arbeits­grup­pen­an­ge­bot an ver­schie­de­nen Orten statt und wie­der in Kas­sel\, die­ses Mal mit dem Thema:\nFreie spi­ri­tu­el­le Krea­ti­vi­tät und neue sozia­le Wege — unser apo­ka­lyp­ti­sches Geprüftsein. \nHier kön­nen Sie den Tagungs­ab­lauf-Fly­er herunterladen. \nEin­tritt 90\,00 € | ermä­ßigt 70\,00 € | Essens­teil­nah­me 50\,00 €\nTickets nur an der Abend-/Ta­ges­kas­se\nnach Vor­anmel­dung bis 30.04.2026 an Mail:\ninfo@rudolf-steiner-haus.de\, Tel. +49 40 4133 1630\nVer­an­stal­ter: Anthro­po­so­phi­sche Gesell­schaft in Deutsch­land e.V.\, Zweig Kassel
URL:https://www.az-kassel.de/veranstaltungen/14-himmelfahrtstagung-wochenendtagung/
ATTACH;FMTTYPE=image/jpeg:https://www.az-kassel.de/wp-content/uploads/2025/12/Himmelfahrtstagung-e1766149711502.jpeg
END:VEVENT
BEGIN:VEVENT
DTSTART;TZID=Europe/Berlin:20260529T200000
DTEND;TZID=Europe/Berlin:20260530T093000
DTSTAMP:20260420T120127
CREATED:20251219T131914Z
LAST-MODIFIED:20251219T131914Z
UID:10002199-1780084800-1780133400@www.az-kassel.de
SUMMARY:Karma und Geschichtsverständnis
DESCRIPTION:Vor­trag und Semi­nar André Bartonizcek \nAnre­gun­gen zum Ver­ständ­nis der gegen­wär­ti­gen Zeitereignisse \nDie aktu­el­le Zeit­la­ge wirft drän­gen­de Fra­gen auf und ver­langt nach Ori­en­tie­rung. Die Gren­zen\, an die his­to­ri­sche Erklä­run­gen aller­dings schnell sto­ßen\, machen dar­auf auf­merk­sam\, dass ein ver­tief­ter Zugang zur Geschich­te ansteht. \nTickets nur an der Abend­kas­se Vor­trag 15\,00 € | Semi­nar 36\,00 €\ninklu­si­ve Pau­sen­ver­pfle­gung Sams­tag | Raum: Südsaal\nVer­an­stal­ter Anthro­po­so­phi­sche Gesell­schaft Zweig ein Deutsch­land e.V.\, Kassel
URL:https://www.az-kassel.de/veranstaltungen/karma-und-geschichtsverstaendnis/
ATTACH;FMTTYPE=image/jpeg:https://www.az-kassel.de/wp-content/uploads/2025/12/Andre-Bartoniczek-e1766149906695.jpg
END:VEVENT
END:VCALENDAR