BEGIN:VCALENDAR
VERSION:2.0
PRODID:-//Anthroposophisches Zentrum Kassel e.V. - ECPv6.15.20//NONSGML v1.0//EN
CALSCALE:GREGORIAN
METHOD:PUBLISH
X-ORIGINAL-URL:https://www.az-kassel.de
X-WR-CALDESC:Veranstaltungen für Anthroposophisches Zentrum Kassel e.V.
REFRESH-INTERVAL;VALUE=DURATION:PT1H
X-Robots-Tag:noindex
X-PUBLISHED-TTL:PT1H
BEGIN:VTIMEZONE
TZID:Europe/Berlin
BEGIN:DAYLIGHT
TZOFFSETFROM:+0100
TZOFFSETTO:+0200
TZNAME:CEST
DTSTART:20250330T010000
END:DAYLIGHT
BEGIN:STANDARD
TZOFFSETFROM:+0200
TZOFFSETTO:+0100
TZNAME:CET
DTSTART:20251026T010000
END:STANDARD
BEGIN:DAYLIGHT
TZOFFSETFROM:+0100
TZOFFSETTO:+0200
TZNAME:CEST
DTSTART:20260329T010000
END:DAYLIGHT
BEGIN:STANDARD
TZOFFSETFROM:+0200
TZOFFSETTO:+0100
TZNAME:CET
DTSTART:20261025T010000
END:STANDARD
BEGIN:DAYLIGHT
TZOFFSETFROM:+0100
TZOFFSETTO:+0200
TZNAME:CEST
DTSTART:20270328T010000
END:DAYLIGHT
BEGIN:STANDARD
TZOFFSETFROM:+0200
TZOFFSETTO:+0100
TZNAME:CET
DTSTART:20271031T010000
END:STANDARD
END:VTIMEZONE
BEGIN:VEVENT
DTSTART;TZID=Europe/Berlin:20260424T193000
DTEND;TZID=Europe/Berlin:20260425T100000
DTSTAMP:20260423T182520
CREATED:20251216T133131Z
LAST-MODIFIED:20260318T122731Z
UID:10002194-1777059000-1777111200@www.az-kassel.de
SUMMARY:Der Seelenkalender Rudolf Steiners – Die sogenannten Wochensprüche
DESCRIPTION:Vor­trag und Semi­nar mit Ange­la Fischer\, Son­der­schul­päd­ago­gin und Waldorflehrerin \nFrei­tag\, 24. April 2026: Vor­trag: Der See­lenka­len­der – ein zeit­ge­mä­ßer Zugang zum Geheim­nis des „Was­sers ewi­gen Lebens“\nAnge­la Fischer wird der Fra­ge nach den hei­len­den Kräf­ten im See­lenka­len­der von Rudolf Stei­ner nachgehen. \nSams­tag\, 25. April 2026\, Semi­nar: Die Struk­tur des See­lenka­len­ders – der Bau­plan des See­len­rau­mes als hei­li­ger Tem­pel des Geistes\nRudolf Stei­ner gab dem See­lenka­len­der in Form spie­geln­der Man­tren und zuge­ord­ne­ter Buch­sta­ben eine Struk­tur\, die gele­sen wer­den kann. Ange­la Fischer wird die Bau­ele­men­te des See­lenka­len­ders erleb­bar machen\, sodass sie durch­sich­tig wer­den für die hei­li­ge Archi­tek­tur des Seelenraumes. \nKos­ten Vor­trag: 10 € | ermä­ßigt 7 € | Semi­nar: 30 €\, Anmel­dung erbe­ten an\nMail: info@patienteninitiative-kassel.de\, Tel. 0561–68782 (mit AB) | Raum: Semi­nar­saal 1. Stock\nVer­an­stal­ter: Pati­en­ten­in­itia­ti­ve Kas­sel e.V.
URL:https://www.az-kassel.de/veranstaltungen/der-seelenkalender-rudolf-steiners-die-sogenannten-wochensprueche/
ATTACH;FMTTYPE=image/jpeg:https://www.az-kassel.de/wp-content/uploads/2025/12/Fischer-Angela-Portrait-mit-Schiffsschraube-bearbeitet-scaled-e1765891866599.jpg
END:VEVENT
BEGIN:VEVENT
DTSTART;TZID=Europe/Berlin:20260505T200000
DTEND;TZID=Europe/Berlin:20260505T200000
DTSTAMP:20260423T182520
CREATED:20251219T113643Z
LAST-MODIFIED:20251219T132644Z
UID:10002197-1778011200-1778011200@www.az-kassel.de
SUMMARY:Anthroposophische und tiefenpsychologische Kunsttherapie im Gespräch
DESCRIPTION:Vor­trag von Frau Regu­la Rickert\, Dipl. Kunst­the­ra­peu­tin\, Dozen­tin für Kunstpädagogik/Kunsttherapie\, Autorin von „Lehr­buch der Kunst­the­ra­pie“ (2009) \nRudolf Stei­ner und Carl Gus­tav Jung waren Zeit­ge­nos­sen\, die sich nie begeg­net sind. Bei­de leg­ten Grund­stei­ne für die Ent­wick­lung der Kunst­the­ra­pie\, die heu­te zu den Stan­dards in der kli­ni­schen wie ambu­lan­ten The­ra­pie gehören. \nNach einer Ein­füh­rung ins The­ma wer­den zwei Visua­li­sie­rungs­übun­gen und ein anschlie­ßen­des Gespräch angeboten. \nKos­ten: 10 € | ermä­ßigt 7 € | Anmel­dung erfor­der­lich an\nMail: info@patienteninitative.de\, Tel. 0561–68782 (mit AB) | Raum: Südsaal\nVer­an­stal­ter: Pati­en­ten­in­itia­ti­ve Kas­sel e.V.
URL:https://www.az-kassel.de/veranstaltungen/anthroposophische-und-tiefenpsychologische-kunsttherapie-im-gespraech/
ATTACH;FMTTYPE=image/jpeg:https://www.az-kassel.de/wp-content/uploads/2025/12/RegulaRickert-e1766144098463.jpg
END:VEVENT
END:VCALENDAR