BEGIN:VCALENDAR
VERSION:2.0
PRODID:-//Anthroposophisches Zentrum Kassel e.V. - ECPv6.15.20//NONSGML v1.0//EN
CALSCALE:GREGORIAN
METHOD:PUBLISH
X-WR-CALNAME:Anthroposophisches Zentrum Kassel e.V.
X-ORIGINAL-URL:https://www.az-kassel.de
X-WR-CALDESC:Veranstaltungen für Anthroposophisches Zentrum Kassel e.V.
REFRESH-INTERVAL;VALUE=DURATION:PT1H
X-Robots-Tag:noindex
X-PUBLISHED-TTL:PT1H
BEGIN:VTIMEZONE
TZID:Europe/Berlin
BEGIN:DAYLIGHT
TZOFFSETFROM:+0100
TZOFFSETTO:+0200
TZNAME:CEST
DTSTART:20210328T010000
END:DAYLIGHT
BEGIN:STANDARD
TZOFFSETFROM:+0200
TZOFFSETTO:+0100
TZNAME:CET
DTSTART:20211031T010000
END:STANDARD
BEGIN:DAYLIGHT
TZOFFSETFROM:+0100
TZOFFSETTO:+0200
TZNAME:CEST
DTSTART:20220327T010000
END:DAYLIGHT
BEGIN:STANDARD
TZOFFSETFROM:+0200
TZOFFSETTO:+0100
TZNAME:CET
DTSTART:20221030T010000
END:STANDARD
BEGIN:DAYLIGHT
TZOFFSETFROM:+0100
TZOFFSETTO:+0200
TZNAME:CEST
DTSTART:20230326T010000
END:DAYLIGHT
BEGIN:STANDARD
TZOFFSETFROM:+0200
TZOFFSETTO:+0100
TZNAME:CET
DTSTART:20231029T010000
END:STANDARD
BEGIN:DAYLIGHT
TZOFFSETFROM:+0100
TZOFFSETTO:+0200
TZNAME:CEST
DTSTART:20240331T010000
END:DAYLIGHT
BEGIN:STANDARD
TZOFFSETFROM:+0200
TZOFFSETTO:+0100
TZNAME:CET
DTSTART:20241027T010000
END:STANDARD
END:VTIMEZONE
BEGIN:VEVENT
DTSTART;TZID=Europe/Berlin:20230513T093000
DTEND;TZID=Europe/Berlin:20230514T130000
DTSTAMP:20260420T153044
CREATED:20230121T065107Z
LAST-MODIFIED:20230121T065200Z
UID:10000065-1683970200-1684069200@www.az-kassel.de
SUMMARY:Finde ich eine Lichtquelle in mir? Einführung in die Metallfarblichttherapie mit Klängen
DESCRIPTION:Begeg­nung mit Far­be und Licht der Metal­le Eisen – Gold – Man­gan … far­bi­ges Gestal­ten im Nach­er­le­ben der Licht-Begeg­nung mit Fried­lin­de Mei­er und Simo­ne Lindau\nFür The­ra­peu­tIn­nen\, Heil­päd­ago­gIn­nen\, Leh­re­rIn­nen und PädagogInnen \nKos­ten­bei­trag 100 – 120 €\nOrt: Rudolf Stei­ner Institut\nAnmel­de­schluss: 02.05.2023: info@steiner-institut.eu\nBis zu 15 Teilnehmende\nGemein­sa­me Ver­an­stal­tung vom Rudolf Stei­ner Insti­tut und Insti­tut Lau­ter­bad e.V.
URL:https://www.az-kassel.de/veranstaltungen/finde-ich-eine-lichtquelle-in-mir-einfuehrung-in-die-metallfarblichttherapie-mit-klaengen/
LOCATION:Rudolf Steiner Institut\, im Anthroposophischen Zentrum
ATTACH;FMTTYPE=image/jpeg:https://www.az-kassel.de/wp-content/uploads/2022/08/2019-06-RSI_wortmarke_dieNeue.jpg
END:VEVENT
BEGIN:VEVENT
DTSTART;TZID=Europe/Berlin:20230317T170000
DTEND;TZID=Europe/Berlin:20230318T173000
DTSTAMP:20260420T153044
CREATED:20230121T064058Z
LAST-MODIFIED:20230121T072813Z
UID:10000006-1679072400-1679160600@www.az-kassel.de
SUMMARY:Heilende Erziehung - 2. Treffen: Die Wärmung und die Nährung
DESCRIPTION:Wie erken­nen wir früh­zei­tig Hil­fe­be­darf und wie kön­nen Kin­der im Vor­schul­al­ter indi­vi­du­el­ler beglei­tet werden?\nAlmuth Streh­low und Bru­no Callegaro \nEin­tritt: 65 € \nOrt und Ver­an­stal­ter: Rudolf Stei­ner Institut\nVer­bind­li­che Anmel­dung bis zum 27.02.2023 an: callegaro@steiner-institut.eu
URL:https://www.az-kassel.de/veranstaltungen/heilende-erziehung-2-treffen-die-waermung-und-die-naehrung/
LOCATION:Rudolf Steiner Institut\, im Anthroposophischen Zentrum
ATTACH;FMTTYPE=image/jpeg:https://www.az-kassel.de/wp-content/uploads/2022/08/2019-06-RSI_wortmarke_dieNeue.jpg
END:VEVENT
BEGIN:VEVENT
DTSTART;TZID=Europe/Berlin:20220302T160000
DTEND;TZID=Europe/Berlin:20220304T130000
DTSTAMP:20260420T153044
CREATED:20211213T155134Z
LAST-MODIFIED:20211213T170641Z
UID:10000034-1646236800-1646398800@www.az-kassel.de
SUMMARY:Gemeinsam Impulse setzen Bewerbertreffen für die Ausbildung zur/zum ErzieherIn
DESCRIPTION:Im Aus­tausch zum The­ma: Gemein­sam Impul­se set­zen! Wol­len die Aus­zu­bil­den­den und die Dozen­tIn­nen Sie kennenlernen.\nAlle Infos auf www.steiner-institut.eu/sozialpaed­ago­gik \nAnmel­de­schluss: 15.02.22\n \nKos­ten­bei­trag: 60 € \nVer­an­stal­ter: Rudolf Stei­ner Insti­tut Kas­sel e.V. | 0561 / 930 88–30
URL:https://www.az-kassel.de/veranstaltungen/gemeinsam-impulse-setzen-bewerbertreffen-fuer-die-ausbildung-zur-zum-erzieherin/
LOCATION:Rudolf Steiner Institut\, im Anthroposophischen Zentrum
ATTACH;FMTTYPE=image/jpeg:https://www.az-kassel.de/wp-content/uploads/2021/12/Erzieher_kassel_rudolf-steiner-institut.jpg
END:VEVENT
BEGIN:VEVENT
DTSTART;TZID=Europe/Berlin:20220216T150000
DTEND;TZID=Europe/Berlin:20220218T130000
DTSTAMP:20260420T153044
CREATED:20211213T152315Z
LAST-MODIFIED:20211213T171025Z
UID:10000031-1645023600-1645189200@www.az-kassel.de
SUMMARY:Sozialassistenz Ausbildung 2022 – Kennenlerntage
DESCRIPTION:„Wer bin ich?“\, „Was kann ich?“ „Was will ich?“ — mit die­sen Fra­gen beschäf­ti­gen Sie sich in der Aus­bil­dung zur staatl. geprüf­ten Sozi­al­as­sis­tenz neben ande­ren sozi­al­päd­ago­gi­schen The­men. Wäh­rend der Ken­nen­lern­ta­ge stel­len wir uns und die Aus­bil­dung näher vor und ler­nen uns gegen­sei­tig kennen.\n \nVerant­wort­lich: Ursu­la Hoch­städ­ter und Micha­el Eden\nVer­an­stal­ter: Rudolf Stei­ner Insti­tut Kas­sel e.V. | 0561 / 930 88–30 \nAnmel­dung und Infos unter www.steiner-institut.eu/sozialassistenz oder info@steiner-institut.de \n 
URL:https://www.az-kassel.de/veranstaltungen/sozialassistenz-ausbildung-2022-kennenlerntage/
LOCATION:Rudolf Steiner Institut\, im Anthroposophischen Zentrum
ATTACH;FMTTYPE=image/jpeg:https://www.az-kassel.de/wp-content/uploads/2021/12/sozialassistenz_rudolf-steiner-institut_kassel.jpg
END:VEVENT
END:VCALENDAR